BEGIN:VCALENDAR
VERSION:2.0
PRODID:-//eventon.com NONSGML v1.0//EN
CALSCALE:GREGORIAN
METHOD:PUBLISH
BEGIN:VEVENT
UID:69e619c7bf553
DTSTAMP:20260420T121919Z
DTSTART:20250425T224500Z
DTEND:20250426T035900Z
LOCATION:White Claw Stage on Clayton Street
SUMMARY:Wahoo Races On The Stage - MACC Challenge
DESCRIPTION:Elite cyclists from Athens Twilight take their skills to the ne
 xt level on Wahoo Smart Trainers.\nhttps://athenstwilight.live/events/wahoo
 -races-on-the-stage-qualifying-finals/
URL:https://athenstwilight.live/events/wahoo-races-on-the-stage-qualifying-finals/
END:VEVENT
END:VCALENDAR