BEGIN:VCALENDAR
VERSION:2.0
PRODID:-//eventon.com NONSGML v1.0//EN
CALSCALE:GREGORIAN
METHOD:PUBLISH
BEGIN:VEVENT
UID:69e73a2a328f2
DTSTAMP:20260421T084946Z
DTSTART:20250426T173000Z
DTEND:20250426T174500Z
LOCATION:300 Block Lumpkin Street
SUMMARY:Kids 1K Bike Criterium
DESCRIPTION:Do you kids want to race like the pros? Have them join the Kids
  1K Bike Criterium\,  a free event where they can race along the same cours
 e and cross the same finish line just as the pros do! Kids registration hel
 d within the Kids Zone.\nhttp://athenstwilight.live/events/kids-1k-bike-cri
 terium/
URL:http://athenstwilight.live/events/kids-1k-bike-criterium/
END:VEVENT
END:VCALENDAR