BEGIN:VCALENDAR
VERSION:2.0
PRODID:-//eventon.com NONSGML v1.0//EN
CALSCALE:GREGORIAN
METHOD:PUBLISH
BEGIN:VEVENT
UID:69e9e48878e53
DTSTAMP:20260423T092112Z
DTSTART:20250426T130000Z
DTEND:20250426T131500Z
LOCATION:White Claw Stage on Clayton Street
SUMMARY:American Pride Bank 5K Awards
DESCRIPTION:American Pride Bank 5K Awards\nhttp://athenstwilight.live/event
 s/american-pride-bank-5k-awards/
URL:http://athenstwilight.live/events/american-pride-bank-5k-awards/
END:VEVENT
END:VCALENDAR